BEGIN:VCALENDAR
VERSION:2.0
PRODID:-//NADI Pekan Lenggong - ECPv6.15.20//NONSGML v1.0//EN
CALSCALE:GREGORIAN
METHOD:PUBLISH
X-WR-CALNAME:NADI Pekan Lenggong
X-ORIGINAL-URL:https://lenggong.nadi.my
X-WR-CALDESC:Events for NADI Pekan Lenggong
REFRESH-INTERVAL;VALUE=DURATION:PT1H
X-Robots-Tag:noindex
X-PUBLISHED-TTL:PT1H
BEGIN:VTIMEZONE
TZID:Asia/Kuala_Lumpur
BEGIN:STANDARD
TZOFFSETFROM:+0800
TZOFFSETTO:+0800
TZNAME:+08
DTSTART:20250101T000000
END:STANDARD
END:VTIMEZONE
BEGIN:VEVENT
DTSTART;TZID=Asia/Kuala_Lumpur:20260402T093000
DTEND;TZID=Asia/Kuala_Lumpur:20260402T110000
DTSTAMP:20260425T235024
CREATED:20260415T043058Z
LAST-MODIFIED:20260415T043058Z
UID:11537-1775122200-1775127600@lenggong.nadi.my
SUMMARY:Mahir Pertanian Pintar
DESCRIPTION:
URL:https://lenggong.nadi.my/event/mahir-pertanian-pintar-44/
END:VEVENT
END:VCALENDAR