BEGIN:VCALENDAR
VERSION:2.0
PRODID:-//NADI Pekan Lenggong - ECPv6.15.20//NONSGML v1.0//EN
CALSCALE:GREGORIAN
METHOD:PUBLISH
X-WR-CALNAME:NADI Pekan Lenggong
X-ORIGINAL-URL:https://lenggong.nadi.my
X-WR-CALDESC:Events for NADI Pekan Lenggong
REFRESH-INTERVAL;VALUE=DURATION:PT1H
X-Robots-Tag:noindex
X-PUBLISHED-TTL:PT1H
BEGIN:VTIMEZONE
TZID:Asia/Kuala_Lumpur
BEGIN:STANDARD
TZOFFSETFROM:+0800
TZOFFSETTO:+0800
TZNAME:+08
DTSTART:20250101T000000
END:STANDARD
END:VTIMEZONE
BEGIN:VEVENT
DTSTART;TZID=Asia/Kuala_Lumpur:20260416T093000
DTEND;TZID=Asia/Kuala_Lumpur:20260416T113000
DTSTAMP:20260424T000835
CREATED:20260414T094613Z
LAST-MODIFIED:20260414T094613Z
UID:11477-1776331800-1776339000@lenggong.nadi.my
SUMMARY:Mahir Pertanian Pintar
DESCRIPTION:
URL:https://lenggong.nadi.my/event/mahir-pertanian-pintar-43/
END:VEVENT
BEGIN:VEVENT
DTSTART;TZID=Asia/Kuala_Lumpur:20260416T100000
DTEND;TZID=Asia/Kuala_Lumpur:20260416T120000
DTSTAMP:20260424T000835
CREATED:20260415T052202Z
LAST-MODIFIED:20260415T063008Z
UID:11589-1776333600-1776340800@lenggong.nadi.my
SUMMARY:Webinar Keusahawanan
DESCRIPTION:
URL:https://lenggong.nadi.my/event/mahir-gajet-50/
END:VEVENT
BEGIN:VEVENT
DTSTART;TZID=Asia/Kuala_Lumpur:20260416T153000
DTEND;TZID=Asia/Kuala_Lumpur:20260416T163000
DTSTAMP:20260424T000835
CREATED:20260415T052611Z
LAST-MODIFIED:20260415T052611Z
UID:11591-1776353400-1776357000@lenggong.nadi.my
SUMMARY:Open Tuition
DESCRIPTION:
URL:https://lenggong.nadi.my/event/open-tuition-46/
END:VEVENT
END:VCALENDAR