BEGIN:VCALENDAR
VERSION:2.0
PRODID:-//NADI Pekan Lenggong - ECPv6.15.20//NONSGML v1.0//EN
CALSCALE:GREGORIAN
METHOD:PUBLISH
X-WR-CALNAME:NADI Pekan Lenggong
X-ORIGINAL-URL:https://lenggong.nadi.my
X-WR-CALDESC:Events for NADI Pekan Lenggong
REFRESH-INTERVAL;VALUE=DURATION:PT1H
X-Robots-Tag:noindex
X-PUBLISHED-TTL:PT1H
BEGIN:VTIMEZONE
TZID:Asia/Kuala_Lumpur
BEGIN:STANDARD
TZOFFSETFROM:+0800
TZOFFSETTO:+0800
TZNAME:+08
DTSTART:20250101T000000
END:STANDARD
END:VTIMEZONE
BEGIN:VEVENT
DTSTART;TZID=Asia/Kuala_Lumpur:20260419T070000
DTEND;TZID=Asia/Kuala_Lumpur:20260419T113000
DTSTAMP:20260424T234433
CREATED:20260414T094807Z
LAST-MODIFIED:20260414T094807Z
UID:11483-1776582000-1776598200@lenggong.nadi.my
SUMMARY:Jom Sihat Jom Aktif
DESCRIPTION:
URL:https://lenggong.nadi.my/event/jom-sihat-jom-aktif/
END:VEVENT
END:VCALENDAR