BEGIN:VCALENDAR
VERSION:2.0
PRODID:-//NADI Pekan Lenggong - ECPv6.15.20//NONSGML v1.0//EN
CALSCALE:GREGORIAN
METHOD:PUBLISH
X-WR-CALNAME:NADI Pekan Lenggong
X-ORIGINAL-URL:https://lenggong.nadi.my
X-WR-CALDESC:Events for NADI Pekan Lenggong
REFRESH-INTERVAL;VALUE=DURATION:PT1H
X-Robots-Tag:noindex
X-PUBLISHED-TTL:PT1H
BEGIN:VTIMEZONE
TZID:Asia/Kuala_Lumpur
BEGIN:STANDARD
TZOFFSETFROM:+0800
TZOFFSETTO:+0800
TZNAME:+08
DTSTART:20250101T000000
END:STANDARD
END:VTIMEZONE
BEGIN:VEVENT
DTSTART;TZID=Asia/Kuala_Lumpur:20260423T100000
DTEND;TZID=Asia/Kuala_Lumpur:20260423T120000
DTSTAMP:20260423T124510
CREATED:20260415T063947Z
LAST-MODIFIED:20260415T063947Z
UID:11607-1776938400-1776945600@lenggong.nadi.my
SUMMARY:Webinar Keusahawanan
DESCRIPTION:
URL:https://lenggong.nadi.my/event/webinar-keusahawanan/
END:VEVENT
BEGIN:VEVENT
DTSTART;TZID=Asia/Kuala_Lumpur:20260423T093000
DTEND;TZID=Asia/Kuala_Lumpur:20260423T110000
DTSTAMP:20260423T124510
CREATED:20260415T063859Z
LAST-MODIFIED:20260415T063859Z
UID:11605-1776936600-1776942000@lenggong.nadi.my
SUMMARY:Mahir Pertanian Pintar
DESCRIPTION:
URL:https://lenggong.nadi.my/event/mahir-pertanian-pintar-46/
END:VEVENT
BEGIN:VEVENT
DTSTART;TZID=Asia/Kuala_Lumpur:20260422T150000
DTEND;TZID=Asia/Kuala_Lumpur:20260422T163000
DTSTAMP:20260423T124510
CREATED:20260415T063749Z
LAST-MODIFIED:20260415T063749Z
UID:11603-1776870000-1776875400@lenggong.nadi.my
SUMMARY:Mahir Jahit
DESCRIPTION:
URL:https://lenggong.nadi.my/event/mahir-jahit-24/
END:VEVENT
BEGIN:VEVENT
DTSTART;TZID=Asia/Kuala_Lumpur:20260421T150000
DTEND;TZID=Asia/Kuala_Lumpur:20260421T163000
DTSTAMP:20260423T124510
CREATED:20260415T063657Z
LAST-MODIFIED:20260415T063657Z
UID:11601-1776783600-1776789000@lenggong.nadi.my
SUMMARY:Mahir Gajet E-Kelas
DESCRIPTION:
URL:https://lenggong.nadi.my/event/mahir-gajet-e-kelas/
END:VEVENT
BEGIN:VEVENT
DTSTART;TZID=Asia/Kuala_Lumpur:20260420T150000
DTEND;TZID=Asia/Kuala_Lumpur:20260420T163000
DTSTAMP:20260423T124510
CREATED:20260415T063613Z
LAST-MODIFIED:20260415T063613Z
UID:11599-1776697200-1776702600@lenggong.nadi.my
SUMMARY:Mahir Masak E-Kelas
DESCRIPTION:
URL:https://lenggong.nadi.my/event/mahir-masak-e-kelas/
END:VEVENT
BEGIN:VEVENT
DTSTART;TZID=Asia/Kuala_Lumpur:20260419T070000
DTEND;TZID=Asia/Kuala_Lumpur:20260419T113000
DTSTAMP:20260423T124510
CREATED:20260414T094807Z
LAST-MODIFIED:20260414T094807Z
UID:11483-1776582000-1776598200@lenggong.nadi.my
SUMMARY:Jom Sihat Jom Aktif
DESCRIPTION:
URL:https://lenggong.nadi.my/event/jom-sihat-jom-aktif/
END:VEVENT
BEGIN:VEVENT
DTSTART;TZID=Asia/Kuala_Lumpur:20260418T143000
DTEND;TZID=Asia/Kuala_Lumpur:20260418T163000
DTSTAMP:20260423T124510
CREATED:20260415T063359Z
LAST-MODIFIED:20260415T063359Z
UID:11597-1776522600-1776529800@lenggong.nadi.my
SUMMARY:Webinar Dilea
DESCRIPTION:
URL:https://lenggong.nadi.my/event/webinar-dilea/
END:VEVENT
BEGIN:VEVENT
DTSTART;TZID=Asia/Kuala_Lumpur:20260418T100000
DTEND;TZID=Asia/Kuala_Lumpur:20260418T113000
DTSTAMP:20260423T124510
CREATED:20260414T094744Z
LAST-MODIFIED:20260414T094744Z
UID:11481-1776506400-1776511800@lenggong.nadi.my
SUMMARY:Kidventure
DESCRIPTION:
URL:https://lenggong.nadi.my/event/kidventure-2/
END:VEVENT
BEGIN:VEVENT
DTSTART;TZID=Asia/Kuala_Lumpur:20260418T093000
DTEND;TZID=Asia/Kuala_Lumpur:20260418T120000
DTSTAMP:20260423T124510
CREATED:20260414T094708Z
LAST-MODIFIED:20260414T094708Z
UID:11479-1776504600-1776513600@lenggong.nadi.my
SUMMARY:Tiny Techies
DESCRIPTION:
URL:https://lenggong.nadi.my/event/tiny-techies-5/
END:VEVENT
BEGIN:VEVENT
DTSTART;TZID=Asia/Kuala_Lumpur:20260418T090000
DTEND;TZID=Asia/Kuala_Lumpur:20260418T180000
DTSTAMP:20260423T124510
CREATED:20260415T063244Z
LAST-MODIFIED:20260415T063244Z
UID:11595-1776502800-1776535200@lenggong.nadi.my
SUMMARY:E-Sport
DESCRIPTION:
URL:https://lenggong.nadi.my/event/e-sport-3/
END:VEVENT
BEGIN:VEVENT
DTSTART;TZID=Asia/Kuala_Lumpur:20260416T153000
DTEND;TZID=Asia/Kuala_Lumpur:20260416T163000
DTSTAMP:20260423T124510
CREATED:20260415T052611Z
LAST-MODIFIED:20260415T052611Z
UID:11591-1776353400-1776357000@lenggong.nadi.my
SUMMARY:Open Tuition
DESCRIPTION:
URL:https://lenggong.nadi.my/event/open-tuition-46/
END:VEVENT
BEGIN:VEVENT
DTSTART;TZID=Asia/Kuala_Lumpur:20260416T100000
DTEND;TZID=Asia/Kuala_Lumpur:20260416T120000
DTSTAMP:20260423T124510
CREATED:20260415T052202Z
LAST-MODIFIED:20260415T063008Z
UID:11589-1776333600-1776340800@lenggong.nadi.my
SUMMARY:Webinar Keusahawanan
DESCRIPTION:
URL:https://lenggong.nadi.my/event/mahir-gajet-50/
END:VEVENT
BEGIN:VEVENT
DTSTART;TZID=Asia/Kuala_Lumpur:20260416T093000
DTEND;TZID=Asia/Kuala_Lumpur:20260416T113000
DTSTAMP:20260423T124510
CREATED:20260414T094613Z
LAST-MODIFIED:20260414T094613Z
UID:11477-1776331800-1776339000@lenggong.nadi.my
SUMMARY:Mahir Pertanian Pintar
DESCRIPTION:
URL:https://lenggong.nadi.my/event/mahir-pertanian-pintar-43/
END:VEVENT
BEGIN:VEVENT
DTSTART;TZID=Asia/Kuala_Lumpur:20260415T150000
DTEND;TZID=Asia/Kuala_Lumpur:20260415T163000
DTSTAMP:20260423T124510
CREATED:20260414T094547Z
LAST-MODIFIED:20260414T094547Z
UID:11475-1776265200-1776270600@lenggong.nadi.my
SUMMARY:Mahir Jahit
DESCRIPTION:
URL:https://lenggong.nadi.my/event/mahir-jahit-21/
END:VEVENT
BEGIN:VEVENT
DTSTART;TZID=Asia/Kuala_Lumpur:20260414T150000
DTEND;TZID=Asia/Kuala_Lumpur:20260414T163000
DTSTAMP:20260423T124510
CREATED:20260415T064731Z
LAST-MODIFIED:20260415T064812Z
UID:11619-1776178800-1776184200@lenggong.nadi.my
SUMMARY:Mahir Gajet
DESCRIPTION:
URL:https://lenggong.nadi.my/event/mahir-gajet-52/
END:VEVENT
BEGIN:VEVENT
DTSTART;TZID=Asia/Kuala_Lumpur:20260413T153000
DTEND;TZID=Asia/Kuala_Lumpur:20260413T163000
DTSTAMP:20260423T124510
CREATED:20260409T093007Z
LAST-MODIFIED:20260409T093007Z
UID:11353-1776094200-1776097800@lenggong.nadi.my
SUMMARY:Open Tuition
DESCRIPTION:
URL:https://lenggong.nadi.my/event/open-tuition-43/
END:VEVENT
BEGIN:VEVENT
DTSTART;TZID=Asia/Kuala_Lumpur:20260413T093000
DTEND;TZID=Asia/Kuala_Lumpur:20260413T110000
DTSTAMP:20260423T124510
CREATED:20260415T045407Z
LAST-MODIFIED:20260415T045407Z
UID:11555-1776072600-1776078000@lenggong.nadi.my
SUMMARY:Mahir Masak
DESCRIPTION:
URL:https://lenggong.nadi.my/event/mahir-masak-38/
END:VEVENT
BEGIN:VEVENT
DTSTART;TZID=Asia/Kuala_Lumpur:20260411T143000
DTEND;TZID=Asia/Kuala_Lumpur:20260411T163000
DTSTAMP:20260423T124510
CREATED:20260412T072118Z
LAST-MODIFIED:20260412T072507Z
UID:11463-1775917800-1775925000@lenggong.nadi.my
SUMMARY:Program Khas -Webinar Bahasa Melayu
DESCRIPTION:
URL:https://lenggong.nadi.my/event/kidventure-webinar-operasi-perniagaan/
END:VEVENT
BEGIN:VEVENT
DTSTART;TZID=Asia/Kuala_Lumpur:20260411T100000
DTEND;TZID=Asia/Kuala_Lumpur:20260411T113000
DTSTAMP:20260423T124510
CREATED:20260409T092932Z
LAST-MODIFIED:20260409T092932Z
UID:11351-1775901600-1775907000@lenggong.nadi.my
SUMMARY:Kidventure
DESCRIPTION:
URL:https://lenggong.nadi.my/event/kidventure/
END:VEVENT
BEGIN:VEVENT
DTSTART;TZID=Asia/Kuala_Lumpur:20260411T090000
DTEND;TZID=Asia/Kuala_Lumpur:20260411T180000
DTSTAMP:20260423T124510
CREATED:20260415T045233Z
LAST-MODIFIED:20260415T045233Z
UID:11553-1775898000-1775930400@lenggong.nadi.my
SUMMARY:E-Sport
DESCRIPTION:
URL:https://lenggong.nadi.my/event/e-sport-2/
END:VEVENT
BEGIN:VEVENT
DTSTART;TZID=Asia/Kuala_Lumpur:20260409T153000
DTEND;TZID=Asia/Kuala_Lumpur:20260409T163000
DTSTAMP:20260423T124510
CREATED:20260415T045102Z
LAST-MODIFIED:20260415T045102Z
UID:11551-1775748600-1775752200@lenggong.nadi.my
SUMMARY:Open Tuition
DESCRIPTION:
URL:https://lenggong.nadi.my/event/open-tuition-44/
END:VEVENT
BEGIN:VEVENT
DTSTART;TZID=Asia/Kuala_Lumpur:20260409T093000
DTEND;TZID=Asia/Kuala_Lumpur:20260409T110000
DTSTAMP:20260423T124510
CREATED:20260415T044737Z
LAST-MODIFIED:20260415T044737Z
UID:11549-1775727000-1775732400@lenggong.nadi.my
SUMMARY:Mahir Pertanian Pintar
DESCRIPTION:
URL:https://lenggong.nadi.my/event/mahir-pertanian-pintar-45/
END:VEVENT
BEGIN:VEVENT
DTSTART;TZID=Asia/Kuala_Lumpur:20260408T150000
DTEND;TZID=Asia/Kuala_Lumpur:20260408T163000
DTSTAMP:20260423T124510
CREATED:20260415T044631Z
LAST-MODIFIED:20260415T044631Z
UID:11547-1775660400-1775665800@lenggong.nadi.my
SUMMARY:Mahir Jahit
DESCRIPTION:
URL:https://lenggong.nadi.my/event/mahir-jahit-23/
END:VEVENT
BEGIN:VEVENT
DTSTART;TZID=Asia/Kuala_Lumpur:20260407T153000
DTEND;TZID=Asia/Kuala_Lumpur:20260407T163000
DTSTAMP:20260423T124510
CREATED:20260415T051449Z
LAST-MODIFIED:20260415T051449Z
UID:11579-1775575800-1775579400@lenggong.nadi.my
SUMMARY:Open Tuition
DESCRIPTION:
URL:https://lenggong.nadi.my/event/open-tuition-45/
END:VEVENT
BEGIN:VEVENT
DTSTART;TZID=Asia/Kuala_Lumpur:20260407T150000
DTEND;TZID=Asia/Kuala_Lumpur:20260407T163000
DTSTAMP:20260423T124510
CREATED:20260415T044355Z
LAST-MODIFIED:20260415T044355Z
UID:11545-1775574000-1775579400@lenggong.nadi.my
SUMMARY:Mahir Gajet
DESCRIPTION:
URL:https://lenggong.nadi.my/event/mahir-gajet-49/
END:VEVENT
BEGIN:VEVENT
DTSTART;TZID=Asia/Kuala_Lumpur:20260406T150000
DTEND;TZID=Asia/Kuala_Lumpur:20260406T163000
DTSTAMP:20260423T124510
CREATED:20260415T044141Z
LAST-MODIFIED:20260415T044141Z
UID:11543-1775487600-1775493000@lenggong.nadi.my
SUMMARY:Mahir Masak
DESCRIPTION:
URL:https://lenggong.nadi.my/event/mahir-masak-37/
END:VEVENT
BEGIN:VEVENT
DTSTART;TZID=Asia/Kuala_Lumpur:20260404T090000
DTEND;TZID=Asia/Kuala_Lumpur:20260404T180000
DTSTAMP:20260423T124510
CREATED:20260415T043934Z
LAST-MODIFIED:20260415T043934Z
UID:11541-1775293200-1775325600@lenggong.nadi.my
SUMMARY:E-Sport
DESCRIPTION:
URL:https://lenggong.nadi.my/event/e-sport/
END:VEVENT
BEGIN:VEVENT
DTSTART;TZID=Asia/Kuala_Lumpur:20260402T093000
DTEND;TZID=Asia/Kuala_Lumpur:20260402T110000
DTSTAMP:20260423T124510
CREATED:20260415T043058Z
LAST-MODIFIED:20260415T043058Z
UID:11537-1775122200-1775127600@lenggong.nadi.my
SUMMARY:Mahir Pertanian Pintar
DESCRIPTION:
URL:https://lenggong.nadi.my/event/mahir-pertanian-pintar-44/
END:VEVENT
BEGIN:VEVENT
DTSTART;TZID=Asia/Kuala_Lumpur:20260401T150000
DTEND;TZID=Asia/Kuala_Lumpur:20260401T163000
DTSTAMP:20260423T124510
CREATED:20260415T042918Z
LAST-MODIFIED:20260415T042918Z
UID:11535-1775055600-1775061000@lenggong.nadi.my
SUMMARY:Mahir Jahit
DESCRIPTION:
URL:https://lenggong.nadi.my/event/mahir-jahit-22/
END:VEVENT
BEGIN:VEVENT
DTSTART;TZID=Asia/Kuala_Lumpur:20260311T150000
DTEND;TZID=Asia/Kuala_Lumpur:20260311T163000
DTSTAMP:20260423T124510
CREATED:20260308T045340Z
LAST-MODIFIED:20260308T045340Z
UID:11297-1773241200-1773246600@lenggong.nadi.my
SUMMARY:Mahir Jahit
DESCRIPTION:
URL:https://lenggong.nadi.my/event/mahir-jahit-20/
END:VEVENT
END:VCALENDAR