BEGIN:VCALENDAR
VERSION:2.0
PRODID:-//NADI Pekan Lenggong - ECPv6.15.20//NONSGML v1.0//EN
CALSCALE:GREGORIAN
METHOD:PUBLISH
X-WR-CALNAME:NADI Pekan Lenggong
X-ORIGINAL-URL:https://lenggong.nadi.my
X-WR-CALDESC:Events for NADI Pekan Lenggong
REFRESH-INTERVAL;VALUE=DURATION:PT1H
X-Robots-Tag:noindex
X-PUBLISHED-TTL:PT1H
BEGIN:VTIMEZONE
TZID:Asia/Kuala_Lumpur
BEGIN:STANDARD
TZOFFSETFROM:+0800
TZOFFSETTO:+0800
TZNAME:+08
DTSTART:20250101T000000
END:STANDARD
END:VTIMEZONE
BEGIN:VEVENT
DTSTART;TZID=Asia/Kuala_Lumpur:20260423T093000
DTEND;TZID=Asia/Kuala_Lumpur:20260423T110000
DTSTAMP:20260423T092911
CREATED:20260415T063859Z
LAST-MODIFIED:20260415T063859Z
UID:11605-1776936600-1776942000@lenggong.nadi.my
SUMMARY:Mahir Pertanian Pintar
DESCRIPTION:
URL:https://lenggong.nadi.my/event/mahir-pertanian-pintar-46/
END:VEVENT
BEGIN:VEVENT
DTSTART;TZID=Asia/Kuala_Lumpur:20260423T100000
DTEND;TZID=Asia/Kuala_Lumpur:20260423T120000
DTSTAMP:20260423T092911
CREATED:20260415T063947Z
LAST-MODIFIED:20260415T063947Z
UID:11607-1776938400-1776945600@lenggong.nadi.my
SUMMARY:Webinar Keusahawanan
DESCRIPTION:
URL:https://lenggong.nadi.my/event/webinar-keusahawanan/
END:VEVENT
BEGIN:VEVENT
DTSTART;TZID=Asia/Kuala_Lumpur:20260425T100000
DTEND;TZID=Asia/Kuala_Lumpur:20260425T233000
DTSTAMP:20260423T092911
CREATED:20260415T064118Z
LAST-MODIFIED:20260415T064118Z
UID:11609-1777111200-1777159800@lenggong.nadi.my
SUMMARY:Kidventure
DESCRIPTION:
URL:https://lenggong.nadi.my/event/kidventure-3/
END:VEVENT
BEGIN:VEVENT
DTSTART;TZID=Asia/Kuala_Lumpur:20260427T150000
DTEND;TZID=Asia/Kuala_Lumpur:20260427T163000
DTSTAMP:20260423T092911
CREATED:20260415T064404Z
LAST-MODIFIED:20260415T064404Z
UID:11611-1777302000-1777307400@lenggong.nadi.my
SUMMARY:Mahir Masak
DESCRIPTION:
URL:https://lenggong.nadi.my/event/mahir-masak-39/
END:VEVENT
BEGIN:VEVENT
DTSTART;TZID=Asia/Kuala_Lumpur:20260428T150000
DTEND;TZID=Asia/Kuala_Lumpur:20260428T163000
DTSTAMP:20260423T092911
CREATED:20260415T064439Z
LAST-MODIFIED:20260415T064439Z
UID:11613-1777388400-1777393800@lenggong.nadi.my
SUMMARY:Mahir Gajet
DESCRIPTION:
URL:https://lenggong.nadi.my/event/mahir-gajet-51/
END:VEVENT
BEGIN:VEVENT
DTSTART;TZID=Asia/Kuala_Lumpur:20260429T150000
DTEND;TZID=Asia/Kuala_Lumpur:20260429T163000
DTSTAMP:20260423T092911
CREATED:20260415T064511Z
LAST-MODIFIED:20260415T064511Z
UID:11615-1777474800-1777480200@lenggong.nadi.my
SUMMARY:Mahir Jahit
DESCRIPTION:
URL:https://lenggong.nadi.my/event/mahir-jahit-25/
END:VEVENT
BEGIN:VEVENT
DTSTART;TZID=Asia/Kuala_Lumpur:20260430T093000
DTEND;TZID=Asia/Kuala_Lumpur:20260430T110000
DTSTAMP:20260423T092911
CREATED:20260415T064611Z
LAST-MODIFIED:20260415T064611Z
UID:11617-1777541400-1777546800@lenggong.nadi.my
SUMMARY:Mahir Pertanian Pintar
DESCRIPTION:
URL:https://lenggong.nadi.my/event/mahir-pertanian-pintar-47/
END:VEVENT
END:VCALENDAR