BEGIN:VCALENDAR
VERSION:2.0
PRODID:-//NADI Pekan Lenggong - ECPv6.15.20//NONSGML v1.0//EN
CALSCALE:GREGORIAN
METHOD:PUBLISH
X-WR-CALNAME:NADI Pekan Lenggong
X-ORIGINAL-URL:https://lenggong.nadi.my
X-WR-CALDESC:Events for NADI Pekan Lenggong
REFRESH-INTERVAL;VALUE=DURATION:PT1H
X-Robots-Tag:noindex
X-PUBLISHED-TTL:PT1H
BEGIN:VTIMEZONE
TZID:Asia/Kuala_Lumpur
BEGIN:STANDARD
TZOFFSETFROM:+0800
TZOFFSETTO:+0800
TZNAME:+08
DTSTART:20250101T000000
END:STANDARD
END:VTIMEZONE
BEGIN:VEVENT
DTSTART;TZID=Asia/Kuala_Lumpur:20260302T143000
DTEND;TZID=Asia/Kuala_Lumpur:20260302T153000
DTSTAMP:20260425T113435
CREATED:20260301T065127Z
LAST-MODIFIED:20260301T065127Z
UID:11273-1772461800-1772465400@lenggong.nadi.my
SUMMARY:Open Tuition
DESCRIPTION:
URL:https://lenggong.nadi.my/event/open-tuition-40/
END:VEVENT
BEGIN:VEVENT
DTSTART;TZID=Asia/Kuala_Lumpur:20260302T150000
DTEND;TZID=Asia/Kuala_Lumpur:20260302T163000
DTSTAMP:20260425T113435
CREATED:20260301T065205Z
LAST-MODIFIED:20260301T065205Z
UID:11275-1772463600-1772469000@lenggong.nadi.my
SUMMARY:Mahir Masak
DESCRIPTION:Ma
URL:https://lenggong.nadi.my/event/mahir-masak-35/
END:VEVENT
BEGIN:VEVENT
DTSTART;TZID=Asia/Kuala_Lumpur:20260303T143000
DTEND;TZID=Asia/Kuala_Lumpur:20260303T153000
DTSTAMP:20260425T113435
CREATED:20260301T065306Z
LAST-MODIFIED:20260301T065306Z
UID:11277-1772548200-1772551800@lenggong.nadi.my
SUMMARY:Open Tuition
DESCRIPTION:
URL:https://lenggong.nadi.my/event/open-tuition-41/
END:VEVENT
BEGIN:VEVENT
DTSTART;TZID=Asia/Kuala_Lumpur:20260303T150000
DTEND;TZID=Asia/Kuala_Lumpur:20260303T163000
DTSTAMP:20260425T113435
CREATED:20260301T065325Z
LAST-MODIFIED:20260301T065325Z
UID:11279-1772550000-1772555400@lenggong.nadi.my
SUMMARY:Mahir Gajet
DESCRIPTION:
URL:https://lenggong.nadi.my/event/mahir-gajet-47/
END:VEVENT
BEGIN:VEVENT
DTSTART;TZID=Asia/Kuala_Lumpur:20260304T100000
DTEND;TZID=Asia/Kuala_Lumpur:20260304T143000
DTSTAMP:20260425T113435
CREATED:20260301T065343Z
LAST-MODIFIED:20260301T065343Z
UID:11281-1772618400-1772634600@lenggong.nadi.my
SUMMARY:Kaunter Agensi
DESCRIPTION:
URL:https://lenggong.nadi.my/event/kaunter-agensi/
END:VEVENT
BEGIN:VEVENT
DTSTART;TZID=Asia/Kuala_Lumpur:20260304T150000
DTEND;TZID=Asia/Kuala_Lumpur:20260304T163000
DTSTAMP:20260425T113435
CREATED:20260304T053246Z
LAST-MODIFIED:20260304T053246Z
UID:11285-1772636400-1772641800@lenggong.nadi.my
SUMMARY:Mahir Jahit
DESCRIPTION:
URL:https://lenggong.nadi.my/event/mahir-jahit-19/
END:VEVENT
BEGIN:VEVENT
DTSTART;TZID=Asia/Kuala_Lumpur:20260305T140000
DTEND;TZID=Asia/Kuala_Lumpur:20260305T153000
DTSTAMP:20260425T113435
CREATED:20260304T053416Z
LAST-MODIFIED:20260304T053416Z
UID:11289-1772719200-1772724600@lenggong.nadi.my
SUMMARY:Cybersecurity
DESCRIPTION:
URL:https://lenggong.nadi.my/event/cybersecurity/
END:VEVENT
BEGIN:VEVENT
DTSTART;TZID=Asia/Kuala_Lumpur:20260305T150000
DTEND;TZID=Asia/Kuala_Lumpur:20260305T163000
DTSTAMP:20260425T113435
CREATED:20260304T053321Z
LAST-MODIFIED:20260304T053321Z
UID:11287-1772722800-1772728200@lenggong.nadi.my
SUMMARY:Mahir Pertanian Pintar
DESCRIPTION:
URL:https://lenggong.nadi.my/event/mahir-pertanian-pintar-42/
END:VEVENT
BEGIN:VEVENT
DTSTART;TZID=Asia/Kuala_Lumpur:20260309T143000
DTEND;TZID=Asia/Kuala_Lumpur:20260309T153000
DTSTAMP:20260425T113435
CREATED:20260308T045135Z
LAST-MODIFIED:20260308T045135Z
UID:11293-1773066600-1773070200@lenggong.nadi.my
SUMMARY:Open Tuition
DESCRIPTION:
URL:https://lenggong.nadi.my/event/open-tuition-42/
END:VEVENT
BEGIN:VEVENT
DTSTART;TZID=Asia/Kuala_Lumpur:20260309T150000
DTEND;TZID=Asia/Kuala_Lumpur:20260309T163000
DTSTAMP:20260425T113435
CREATED:20260308T045108Z
LAST-MODIFIED:20260308T045108Z
UID:11291-1773068400-1773073800@lenggong.nadi.my
SUMMARY:Mahir Masak
DESCRIPTION:
URL:https://lenggong.nadi.my/event/mahir-masak-36/
END:VEVENT
BEGIN:VEVENT
DTSTART;TZID=Asia/Kuala_Lumpur:20260309T150000
DTEND;TZID=Asia/Kuala_Lumpur:20260309T163000
DTSTAMP:20260425T113435
CREATED:20260308T045215Z
LAST-MODIFIED:20260308T045215Z
UID:11295-1773068400-1773073800@lenggong.nadi.my
SUMMARY:Mahir Gajet
DESCRIPTION:
URL:https://lenggong.nadi.my/event/mahir-gajet-48/
END:VEVENT
BEGIN:VEVENT
DTSTART;TZID=Asia/Kuala_Lumpur:20260311T150000
DTEND;TZID=Asia/Kuala_Lumpur:20260311T163000
DTSTAMP:20260425T113435
CREATED:20260308T045340Z
LAST-MODIFIED:20260308T045340Z
UID:11297-1773241200-1773246600@lenggong.nadi.my
SUMMARY:Mahir Jahit
DESCRIPTION:
URL:https://lenggong.nadi.my/event/mahir-jahit-20/
END:VEVENT
END:VCALENDAR